BEGIN:VCALENDAR
VERSION:2.0
PRODID:SchoolNow
CALSCALE:GREGORIAN
BEGIN:VEVENT
UID:6c0f86b0-4df9-11f0-97ed-0a58a9feac02
DTSTAMP:20260421T132508Z
SUMMARY:BES Grades K-5 Ice Skating at Cerow Ice Arena
URL;VALUE=URI:https://www.1000islandsschools.org/calendar/8333134/bes-grade
 s-k-5-ice-skating-at-cerow-ice-arena
DTSTART:20260108T050000Z
DTEND:20260109T050000Z
END:VEVENT
END:VCALENDAR
