BEGIN:VCALENDAR
VERSION:2.0
PRODID:SchoolNow
CALSCALE:GREGORIAN
BEGIN:VEVENT
UID:6c0fa4d8-4df9-11f0-bc0e-0a58a9feac02
DTSTAMP:20260421T132508Z
SUMMARY:BES Grades K-5 Ice Skating at Cerow Ice Arena
URL;VALUE=URI:https://www.1000islandsschools.org/calendar/8333135/bes-grade
 s-k-5-ice-skating-at-cerow-ice-arena
DTSTART:20260109T050000Z
DTEND:20260110T050000Z
END:VEVENT
END:VCALENDAR
