BEGIN:VCALENDAR
VERSION:2.0
PRODID:SchoolNow
CALSCALE:GREGORIAN
BEGIN:VEVENT
UID:494b48d4-5c82-11f0-a6b1-0a58a9feac02
DTSTAMP:20260421T132508Z
SUMMARY:Board of Education Meeting
URL;VALUE=URI:https://www.1000islandsschools.org/calendar/8397960/board-of-
 education-meeting
DTSTART:20260120T220000Z
DTEND:20260120T230000Z
END:VEVENT
END:VCALENDAR
