BEGIN:VCALENDAR
VERSION:2.0
PRODID:SchoolNow
CALSCALE:GREGORIAN
BEGIN:VEVENT
UID:494b49ba-5c82-11f0-9bf7-0a58a9feac02
DTSTAMP:20260420T070009Z
SUMMARY:Board of Education Meeting
URL;VALUE=URI:https://www.1000islandsschools.org/calendar/8397961/board-of-
 education-meeting
DTSTART:20260224T220000Z
DTEND:20260224T230000Z
END:VEVENT
END:VCALENDAR
