BEGIN:VCALENDAR
VERSION:2.0
PRODID:SchoolNow
CALSCALE:GREGORIAN
BEGIN:VEVENT
UID:494b5d7e-5c82-11f0-b357-0a58a9feac02
DTSTAMP:20260421T132508Z
SUMMARY:Christmas Holiday/Recess - No School
URL;VALUE=URI:https://www.1000islandsschools.org/calendar/8397983/christmas
 -holiday-recess-no-school
DTSTART:20251224T050000Z
DTEND:20260101T050000Z
END:VEVENT
END:VCALENDAR
