BEGIN:VCALENDAR
VERSION:2.0
PRODID:SchoolNow
CALSCALE:GREGORIAN
BEGIN:VEVENT
UID:494b5e5a-5c82-11f0-891f-0a58a9feac02
DTSTAMP:20260421T132508Z
SUMMARY:New Years Holiday/Christmas Recess - No School
URL;VALUE=URI:https://www.1000islandsschools.org/calendar/8397984/new-years
 -holiday-christmas-recess-no-school
DTSTART:20260101T050000Z
DTEND:20260104T050000Z
END:VEVENT
END:VCALENDAR
