BEGIN:VCALENDAR
VERSION:2.0
PRODID:SchoolNow
CALSCALE:GREGORIAN
BEGIN:VEVENT
UID:494b5f36-5c82-11f0-b07d-0a58a9feac02
DTSTAMP:20260421T132508Z
SUMMARY:Martin Luther King Day - No School\; All Offices Closed
URL;VALUE=URI:https://www.1000islandsschools.org/calendar/8397985/martin-lu
 ther-king-day-no-school-all-offices-closed
DTSTART:20260119T050000Z
DTEND:20260120T050000Z
END:VEVENT
END:VCALENDAR
