BEGIN:VCALENDAR
VERSION:2.0
PRODID:SchoolNow
CALSCALE:GREGORIAN
BEGIN:VEVENT
UID:494b6d50-5c82-11f0-a667-0a58a9feac02
DTSTAMP:20260420T070009Z
SUMMARY:Winter Recess - No School
URL;VALUE=URI:https://www.1000islandsschools.org/calendar/8397991/winter-re
 cess-no-school
DTSTART:20260218T050000Z
DTEND:20260222T050000Z
END:VEVENT
END:VCALENDAR
