BEGIN:VCALENDAR
VERSION:2.0
PRODID:SchoolNow
CALSCALE:GREGORIAN
BEGIN:VEVENT
UID:494b78ae-5c82-11f0-8c33-0a58a9feac02
DTSTAMP:20260421T132508Z
SUMMARY:All Offices Closed
URL;VALUE=URI:https://www.1000islandsschools.org/calendar/8398003/all-offic
 es-closed
DTSTART:20251225T050000Z
DTEND:20251226T050000Z
END:VEVENT
END:VCALENDAR
