BEGIN:VCALENDAR
VERSION:2.0
PRODID:SchoolNow
CALSCALE:GREGORIAN
BEGIN:VEVENT
UID:ae97e59a-7860-11f0-9fdc-0a58a9feac02
DTSTAMP:20260421T132508Z
SUMMARY:End of 2nd Quarter Marking Period
URL;VALUE=URI:https://www.1000islandsschools.org/calendar/8504932/end-of-2n
 d-quarter-marking-period
DTSTART:20260116T050000Z
DTEND:20260117T050000Z
END:VEVENT
END:VCALENDAR
