BEGIN:VCALENDAR
VERSION:2.0
PRODID:SchoolNow
CALSCALE:GREGORIAN
BEGIN:VEVENT
UID:ae97e694-7860-11f0-87cc-0a58a9feac02
DTSTAMP:20260420T070009Z
SUMMARY:3rd Quarter Progress Reports
URL;VALUE=URI:https://www.1000islandsschools.org/calendar/8504933/3rd-quart
 er-progress-reports
DTSTART:20260227T050000Z
DTEND:20260228T050000Z
END:VEVENT
END:VCALENDAR
