BEGIN:VCALENDAR
VERSION:2.0
PRODID:SchoolNow
CALSCALE:GREGORIAN
BEGIN:VEVENT
UID:7b5dfbce-7c5c-11f0-9caa-0a58a9feac02
DTSTAMP:20260421T132508Z
SUMMARY:HS Yearbook Tier 3 Pricing Begins $72 plus tax
URL;VALUE=URI:https://www.1000islandsschools.org/calendar/8518884/hs-yearbo
 ok-tier-3-pricing-begins-72-plus-tax
DTSTART:20260131T050000Z
DTEND:20260131T060000Z
END:VEVENT
END:VCALENDAR
