BEGIN:VCALENDAR
VERSION:2.0
PRODID:SchoolNow
CALSCALE:GREGORIAN
BEGIN:VEVENT
UID:5d9149c8-7ec0-11f0-90ed-0a58a9feac02
DTSTAMP:20260421T132508Z
SUMMARY:Modified Volleyball Begins
URL;VALUE=URI:https://www.1000islandsschools.org/calendar/8529206/modified-
 volleyball-begins
DTSTART:20260112T050000Z
DTEND:20260113T050000Z
END:VEVENT
END:VCALENDAR
