BEGIN:VCALENDAR
VERSION:2.0
PRODID:SchoolNow
CALSCALE:GREGORIAN
BEGIN:VEVENT
UID:5d915b5c-7ec0-11f0-9588-0a58a9feac02
DTSTAMP:20260421T132508Z
SUMMARY:HS Winter Bi-County Concert @ 2:00 pm
URL;VALUE=URI:https://www.1000islandsschools.org/calendar/8529210/hs-winter
 -bi-county-concert-2-00-pm
DTSTART:20260131T050000Z
DTEND:20260201T050000Z
END:VEVENT
END:VCALENDAR
