BEGIN:VCALENDAR
VERSION:2.0
PRODID:SchoolNow
CALSCALE:GREGORIAN
BEGIN:VEVENT
UID:5d915c56-7ec0-11f0-85a5-0a58a9feac02
DTSTAMP:20260421T132508Z
SUMMARY:Little Caesars Fundraiser Begins (Freshman)
URL;VALUE=URI:https://www.1000islandsschools.org/calendar/8529211/little-ca
 esars-fundraiser-begins-freshman
DTSTART:20260101T050000Z
DTEND:20260102T050000Z
END:VEVENT
END:VCALENDAR
