BEGIN:VCALENDAR
VERSION:2.0
PRODID:SchoolNow
CALSCALE:GREGORIAN
BEGIN:VEVENT
UID:32f64488-81f0-11f0-9924-02408e17392f
DTSTAMP:20260421T132508Z
SUMMARY:Modified Volleyball Sports Photos
URL;VALUE=URI:https://www.1000islandsschools.org/calendar/8542442/modified-
 volleyball-sports-photos
DTSTART:20260127T050000Z
DTEND:20260128T050000Z
END:VEVENT
END:VCALENDAR
