BEGIN:VCALENDAR
VERSION:2.0
PRODID:SchoolNow
CALSCALE:GREGORIAN
BEGIN:VEVENT
UID:169e6e9a-8421-11f0-aafa-0affe6b9ec91
DTSTAMP:20260421T132508Z
SUMMARY:Living Environment Regents @ Noon
URL;VALUE=URI:https://www.1000islandsschools.org/calendar/8553948/living-en
 vironment-regents-noon
DTSTART:20260120T170000Z
DTEND:20260120T200000Z
END:VEVENT
END:VCALENDAR
