BEGIN:VCALENDAR
VERSION:2.0
PRODID:SchoolNow
CALSCALE:GREGORIAN
BEGIN:VEVENT
UID:169e6f8a-8421-11f0-8ac3-0affe6b9ec91
DTSTAMP:20260421T132508Z
SUMMARY:English 11 Regents @ 8:00 am
URL;VALUE=URI:https://www.1000islandsschools.org/calendar/8553949/english-1
 1-regents-8-00-am
DTSTART:20260120T130000Z
DTEND:20260120T170000Z
END:VEVENT
END:VCALENDAR
