BEGIN:VCALENDAR
VERSION:2.0
PRODID:SchoolNow
CALSCALE:GREGORIAN
BEGIN:VEVENT
UID:169e711a-8421-11f0-b7fa-0affe6b9ec91
DTSTAMP:20260421T132508Z
SUMMARY:Algebra 1 Regents @ Noon
URL;VALUE=URI:https://www.1000islandsschools.org/calendar/8553950/algebra-1
 -regents-noon
DTSTART:20260121T170000Z
DTEND:20260121T200000Z
END:VEVENT
END:VCALENDAR
