BEGIN:VCALENDAR
VERSION:2.0
PRODID:SchoolNow
CALSCALE:GREGORIAN
BEGIN:VEVENT
UID:169e7200-8421-11f0-a295-0affe6b9ec91
DTSTAMP:20260421T132508Z
SUMMARY:US History Regents @ 8:00 am
URL;VALUE=URI:https://www.1000islandsschools.org/calendar/8553951/us-histor
 y-regents-8-00-am
DTSTART:20260121T130000Z
DTEND:20260121T170000Z
END:VEVENT
END:VCALENDAR
