BEGIN:VCALENDAR
VERSION:2.0
PRODID:SchoolNow
CALSCALE:GREGORIAN
BEGIN:VEVENT
UID:169e72f0-8421-11f0-b360-0affe6b9ec91
DTSTAMP:20260421T132508Z
SUMMARY:Geometry Regents @ 8:00 am
URL;VALUE=URI:https://www.1000islandsschools.org/calendar/8553952/geometry-
 regents-8-00-am
DTSTART:20260121T130000Z
DTEND:20260121T170000Z
END:VEVENT
END:VCALENDAR
