BEGIN:VCALENDAR
VERSION:2.0
PRODID:SchoolNow
CALSCALE:GREGORIAN
BEGIN:VEVENT
UID:169e73d6-8421-11f0-af4d-0affe6b9ec91
DTSTAMP:20260421T132508Z
SUMMARY:Global Studies Regents @ 8:00 am
URL;VALUE=URI:https://www.1000islandsschools.org/calendar/8553953/global-st
 udies-regents-8-00-am
DTSTART:20260122T130000Z
DTEND:20260122T170000Z
END:VEVENT
END:VCALENDAR
