BEGIN:VCALENDAR
VERSION:2.0
PRODID:SchoolNow
CALSCALE:GREGORIAN
BEGIN:VEVENT
UID:169e74bc-8421-11f0-a7a6-0affe6b9ec91
DTSTAMP:20260421T132508Z
SUMMARY:Earth Science Regents @ 8:00 am
URL;VALUE=URI:https://www.1000islandsschools.org/calendar/8553954/earth-sci
 ence-regents-8-00-am
DTSTART:20260123T130000Z
DTEND:20260123T170000Z
END:VEVENT
END:VCALENDAR
