BEGIN:VCALENDAR
VERSION:2.0
PRODID:SchoolNow
CALSCALE:GREGORIAN
BEGIN:VEVENT
UID:169e7598-8421-11f0-b716-0affe6b9ec91
DTSTAMP:20260420T070009Z
SUMMARY:MS/HS Winter Select Choir/Jazz Band Concert
URL;VALUE=URI:https://www.1000islandsschools.org/calendar/8553955/ms-hs-win
 ter-select-choir-jazz-band-concert
DTSTART:20260227T000000Z
DTEND:20260227T010000Z
END:VEVENT
END:VCALENDAR
