BEGIN:VCALENDAR
VERSION:2.0
PRODID:SchoolNow
CALSCALE:GREGORIAN
BEGIN:VEVENT
UID:d898f440-88e8-11f0-82b6-0a58a9feac02
DTSTAMP:20260421T132508Z
SUMMARY:HS Yearbook Tier 2 Pricing Ends $65 plus tax
URL;VALUE=URI:https://www.1000islandsschools.org/calendar/8575167/hs-yearbo
 ok-tier-2-pricing-ends-65-plus-tax
DTSTART:20260130T050000Z
DTEND:20260131T050000Z
END:VEVENT
END:VCALENDAR
