BEGIN:VCALENDAR
VERSION:2.0
PRODID:SchoolNow
CALSCALE:GREGORIAN
BEGIN:VEVENT
UID:d898f7f6-88e8-11f0-8f9b-0a58a9feac02
DTSTAMP:20260421T132508Z
SUMMARY:HS Islander Yearbook Business Ad Sales Ends
URL;VALUE=URI:https://www.1000islandsschools.org/calendar/8575168/hs-island
 er-yearbook-business-ad-sales-ends
DTSTART:20251231T050000Z
DTEND:20260101T050000Z
END:VEVENT
END:VCALENDAR
