BEGIN:VCALENDAR
VERSION:2.0
PRODID:SchoolNow
CALSCALE:GREGORIAN
BEGIN:VEVENT
UID:d898fa4e-88e8-11f0-839c-0a58a9feac02
DTSTAMP:20260420T070009Z
SUMMARY:HS Yearbook Tier 3 Pricing Ends $72 plus tax
URL;VALUE=URI:https://www.1000islandsschools.org/calendar/8575170/hs-yearbo
 ok-tier-3-pricing-ends-72-plus-tax
DTSTART:20260214T050000Z
DTEND:20260215T050000Z
END:VEVENT
END:VCALENDAR
