BEGIN:VCALENDAR
VERSION:2.0
PRODID:SchoolNow
CALSCALE:GREGORIAN
BEGIN:VEVENT
UID:9b1eb09c-8db0-11f0-b3a8-0e60e2ec2c4f
DTSTAMP:20260421T132508Z
SUMMARY:Little Caesars Fundraiser Ends (Freshman)
URL;VALUE=URI:https://www.1000islandsschools.org/calendar/8601809/little-ca
 esars-fundraiser-ends-freshman
DTSTART:20260131T050000Z
DTEND:20260201T050000Z
END:VEVENT
END:VCALENDAR
