BEGIN:VCALENDAR
VERSION:2.0
PRODID:SchoolNow
CALSCALE:GREGORIAN
BEGIN:VEVENT
UID:4ba97578-93dd-11f0-beb0-0e5b7c51aa4d
DTSTAMP:20260421T132508Z
SUMMARY:GES 5th Grade to Star base Academy
URL;VALUE=URI:https://www.1000islandsschools.org/calendar/8632842/ges-5th-g
 rade-to-star-base-academy
DTSTART:20260112T050000Z
DTEND:20260117T050000Z
END:VEVENT
END:VCALENDAR
