BEGIN:VCALENDAR
VERSION:2.0
PRODID:SchoolNow
CALSCALE:GREGORIAN
BEGIN:VEVENT
UID:9e75198a-a52e-11f0-9da8-0a58a9feac02
DTSTAMP:20260421T132508Z
SUMMARY:HS Science Olympiad Competition @ Plattsburg HS
URL;VALUE=URI:https://www.1000islandsschools.org/calendar/8708988/hs-scienc
 e-olympiad-competition-plattsburg-hs
DTSTART:20260124T130000Z
DTEND:20260125T220000Z
END:VEVENT
END:VCALENDAR
