BEGIN:VCALENDAR
VERSION:2.0
PRODID:SchoolNow
CALSCALE:GREGORIAN
BEGIN:VEVENT
UID:ee38f1f2-c569-11f0-aa9f-0a58a9feac02
DTSTAMP:20260420T191008Z
SUMMARY:BES Picture Day Retakes
URL;VALUE=URI:https://www.1000islandsschools.org/calendar/8803709/bes-pictu
 re-day-retakes
DTSTART:20261103T050000Z
DTEND:20261104T050000Z
END:VEVENT
END:VCALENDAR
