BEGIN:VCALENDAR
VERSION:2.0
PRODID:SchoolNow
CALSCALE:GREGORIAN
BEGIN:VEVENT
UID:eeabbbb0-c569-11f0-b388-0a58a9feac02
DTSTAMP:20260420T130509Z
SUMMARY:BES Picture Day
URL;VALUE=URI:https://www.1000islandsschools.org/calendar/8803710/bes-pictu
 re-day
DTSTART:20261002T040000Z
DTEND:20261003T040000Z
END:VEVENT
END:VCALENDAR
