BEGIN:VCALENDAR
VERSION:2.0
PRODID:SchoolNow
CALSCALE:GREGORIAN
BEGIN:VEVENT
UID:b8e9947a-c965-11f0-b75c-0a58a9feac02
DTSTAMP:20260421T132508Z
SUMMARY:Sophomores visit BOCES
URL;VALUE=URI:https://www.1000islandsschools.org/calendar/8809067/sophomore
 s-visit-boces
DTSTART:20260108T135000Z
DTEND:20260108T161500Z
END:VEVENT
END:VCALENDAR
