BEGIN:VCALENDAR
VERSION:2.0
PRODID:SchoolNow
CALSCALE:GREGORIAN
BEGIN:VEVENT
UID:16ffcdca-d5f2-11f0-a60d-0a58a9feac02
DTSTAMP:20260421T132508Z
SUMMARY:BES PTO Winter Ball
URL;VALUE=URI:https://www.1000islandsschools.org/calendar/8821149/bes-pto-w
 inter-ball
DTSTART:20260116T220000Z
DTEND:20260116T233000Z
END:VEVENT
END:VCALENDAR
