BEGIN:VCALENDAR
VERSION:2.0
PRODID:SchoolNow
CALSCALE:GREGORIAN
BEGIN:VEVENT
UID:ec95df7c-eca6-11f0-9e8d-023f48d87d43
DTSTAMP:20260420T070009Z
SUMMARY:Varsity & JV Spring Sports Sign Ups (Start)
URL;VALUE=URI:https://www.1000islandsschools.org/calendar/8832751/varsity-j
 v-spring-sports-sign-ups-start
DTSTART:20260216T050000Z
DTEND:20260217T050000Z
END:VEVENT
END:VCALENDAR
