BEGIN:VCALENDAR
VERSION:2.0
PRODID:SchoolNow
CALSCALE:GREGORIAN
BEGIN:VEVENT
UID:70e8b400-f636-11f0-9df4-0a58a9feac02
DTSTAMP:20260421T132508Z
SUMMARY:BES 2nd Quarter Awards Assembly
URL;VALUE=URI:https://www.1000islandsschools.org/calendar/8838189/bes-2nd-q
 uarter-awards-assembly
DTSTART:20260123T191500Z
DTEND:20260123T201500Z
END:VEVENT
END:VCALENDAR
