BEGIN:VCALENDAR
VERSION:2.0
PRODID:SchoolNow
CALSCALE:GREGORIAN
BEGIN:VEVENT
UID:e06da1ec-012a-11f1-8ef0-0e6101133c05
DTSTAMP:20260420T070009Z
SUMMARY:BES and GES Grades 3-5 Math Testing
URL;VALUE=URI:https://www.1000islandsschools.org/calendar/8848697/bes-and-g
 es-grades-3-5-math-testing
DTSTART:20260505T040000Z
DTEND:20260507T040000Z
END:VEVENT
END:VCALENDAR
