BEGIN:VCALENDAR
VERSION:2.0
PRODID:SchoolNow
CALSCALE:GREGORIAN
BEGIN:VEVENT
UID:e06dc3ac-012a-11f1-b133-0e6101133c05
DTSTAMP:20260420T070009Z
SUMMARY:BES and GES 5th Grade Science Testing
URL;VALUE=URI:https://www.1000islandsschools.org/calendar/8848698/bes-and-g
 es-5th-grade-science-testing
DTSTART:20260512T040000Z
DTEND:20260513T040000Z
END:VEVENT
END:VCALENDAR
