BEGIN:VCALENDAR
VERSION:2.0
PRODID:SchoolNow
CALSCALE:GREGORIAN
BEGIN:VEVENT
UID:39b49d66-1bdc-11f1-90bf-0a58a9feac02
DTSTAMP:20260420T070009Z
SUMMARY:8th Grade Field Trip to Career Jam
URL;VALUE=URI:https://www.1000islandsschools.org/calendar/8904264/8th-grade
 -field-trip-to-career-jam
DTSTART:20260521T040000Z
DTEND:20260522T040000Z
END:VEVENT
END:VCALENDAR
