BEGIN:VCALENDAR
VERSION:2.0
PRODID:SchoolNow
CALSCALE:GREGORIAN
BEGIN:VEVENT
UID:372a617e-1c0f-11f1-8f00-021c79d5a55f
DTSTAMP:20260420T070009Z
SUMMARY:Spring Musical
URL;VALUE=URI:https://www.1000islandsschools.org/calendar/8905228/spring-mu
 sical
DTSTART:20260328T170000Z
DTEND:20260328T190000Z
END:VEVENT
END:VCALENDAR
