BEGIN:VCALENDAR
VERSION:2.0
PRODID:SchoolNow
CALSCALE:GREGORIAN
BEGIN:VEVENT
UID:8c417486-2934-11f1-864a-0a58a9feac02
DTSTAMP:20260420T070009Z
SUMMARY:Frozen Preview (Elementary students)
URL;VALUE=URI:https://www.1000islandsschools.org/calendar/8947277/frozen-pr
 eview-elementary-students
DTSTART:20260327T164500Z
DTEND:20260327T174500Z
END:VEVENT
END:VCALENDAR
