BEGIN:VCALENDAR
VERSION:2.0
PRODID:SchoolNow
CALSCALE:GREGORIAN
BEGIN:VEVENT
UID:81b0098e-2a00-11f1-ac70-0a58a9feac02
DTSTAMP:20260420T070009Z
SUMMARY:BES 3rd Quarter Awards Assembly
URL;VALUE=URI:https://www.1000islandsschools.org/calendar/8949836/bes-3rd-q
 uarter-awards-assembly
DTSTART:20260417T133000Z
DTEND:20260417T143000Z
END:VEVENT
END:VCALENDAR
