BEGIN:VCALENDAR
VERSION:2.0
PRODID:SchoolNow
CALSCALE:GREGORIAN
BEGIN:VEVENT
UID:62c3787e-2c64-11f1-a236-0a58a9feac02
DTSTAMP:20260420T070009Z
SUMMARY:School Physicals (6th Grade)
URL;VALUE=URI:https://www.1000islandsschools.org/calendar/8957922/school-ph
 ysicals-6th-grade
DTSTART:20260519T040000Z
DTEND:20260520T040000Z
END:VEVENT
END:VCALENDAR
