BEGIN:VCALENDAR
VERSION:2.0
PRODID:SchoolNow
CALSCALE:GREGORIAN
BEGIN:VEVENT
UID:62c37cde-2c64-11f1-9bbd-0a58a9feac02
DTSTAMP:20260421T072008Z
SUMMARY:NYS ELA Exam (Grades 6-8)
URL;VALUE=URI:https://www.1000islandsschools.org/calendar/8957923/nys-ela-e
 xam-grades-6-8
DTSTART:20260429T040000Z
DTEND:20260430T040000Z
END:VEVENT
END:VCALENDAR
