BEGIN:VCALENDAR
VERSION:2.0
PRODID:SchoolNow
CALSCALE:GREGORIAN
BEGIN:VEVENT
UID:6309b3fc-2c64-11f1-a0b0-0a58a9feac02
DTSTAMP:20260420T070009Z
SUMMARY:NYS Math Exam (Grades 6-8)
URL;VALUE=URI:https://www.1000islandsschools.org/calendar/8957924/nys-math-
 exam-grades-6-8
DTSTART:20260506T040000Z
DTEND:20260507T040000Z
END:VEVENT
END:VCALENDAR
