BEGIN:VCALENDAR
VERSION:2.0
PRODID:SchoolNow
CALSCALE:GREGORIAN
BEGIN:VEVENT
UID:ab8a56b8-3a88-11f1-ac3b-0a58a9feac02
DTSTAMP:20260420T070009Z
SUMMARY:GES/BES Elementary Spelling Bee Sand Bay Campus
URL;VALUE=URI:https://www.1000islandsschools.org/calendar/9000974/ges-bes-e
 lementary-spelling-bee-sand-bay-campus
DTSTART:20260526T190000Z
DTEND:20260526T210000Z
END:VEVENT
END:VCALENDAR
