BEGIN:VCALENDAR
VERSION:2.0
PRODID:SchoolNow
CALSCALE:GREGORIAN
BEGIN:VEVENT
UID:8c17070c-3cec-11f1-b6db-0afff85c1c6b
DTSTAMP:20260421T072008Z
SUMMARY:SAFE Club Trip
URL;VALUE=URI:https://www.1000islandsschools.org/calendar/9007504/safe-club
 -trip
DTSTART:20260518T040000Z
DTEND:20260519T040000Z
END:VEVENT
END:VCALENDAR
