BEGIN:VCALENDAR
VERSION:2.0
PRODID:SchoolNow
CALSCALE:GREGORIAN
BEGIN:VEVENT
UID:8c172822-3cec-11f1-a75c-0afff85c1c6b
DTSTAMP:20260421T072008Z
SUMMARY:7th Grade Field Trip to the Museum of Science & Technology
URL;VALUE=URI:https://www.1000islandsschools.org/calendar/9007505/7th-grade
 -field-trip-to-the-museum-of-science-technology
DTSTART:20260608T040000Z
DTEND:20260609T040000Z
END:VEVENT
END:VCALENDAR
