BEGIN:VCALENDAR
VERSION:2.0
PRODID:SchoolNow
CALSCALE:GREGORIAN
BEGIN:VEVENT
UID:81bef888-3db8-11f1-9c08-0a58a9feac02
DTSTAMP:20260421T193008Z
SUMMARY:GES Picture Retake Day
URL;VALUE=URI:https://www.1000islandsschools.org/calendar/9009675/ges-pictu
 re-retake-day
DTSTART:20261102T050000Z
DTEND:20261103T050000Z
END:VEVENT
END:VCALENDAR
