BEGIN:VCALENDAR
VERSION:2.0
PRODID:SchoolNow
CALSCALE:GREGORIAN
BEGIN:VEVENT
UID:8202ef48-3db8-11f1-97f3-0a58a9feac02
DTSTAMP:20260422T013508Z
SUMMARY:BES Fun and Fitness PK-2
URL;VALUE=URI:https://www.1000islandsschools.org/calendar/9009676/bes-fun-a
 nd-fitness-pk-2
DTSTART:20260610T040000Z
DTEND:20260611T040000Z
END:VEVENT
END:VCALENDAR
